BEGIN:VCALENDAR
VERSION:2.0
PRODID:-//The Company Onstage - ECPv6.6.3//NONSGML v1.0//EN
CALSCALE:GREGORIAN
METHOD:PUBLISH
X-WR-CALNAME:The Company Onstage
X-ORIGINAL-URL:https://companyonstage.org
X-WR-CALDESC:Events for The Company Onstage
REFRESH-INTERVAL;VALUE=DURATION:PT1H
X-Robots-Tag:noindex
X-PUBLISHED-TTL:PT1H
BEGIN:VTIMEZONE
TZID:America/Chicago
BEGIN:DAYLIGHT
TZOFFSETFROM:-0600
TZOFFSETTO:-0500
TZNAME:CDT
DTSTART:20230312T080000
END:DAYLIGHT
BEGIN:STANDARD
TZOFFSETFROM:-0500
TZOFFSETTO:-0600
TZNAME:CST
DTSTART:20231105T070000
END:STANDARD
END:VTIMEZONE
BEGIN:VEVENT
DTSTART;VALUE=DATE:20231112
DTEND;VALUE=DATE:20231114
DTSTAMP:20260422T144427
CREATED:20231027T010416Z
LAST-MODIFIED:20231027T010416Z
UID:1099-1699747200-1699919999@companyonstage.org
SUMMARY:AUDITIONS - Charlotte's Web & The Complete Works of William Shakespeare (abridged) [revised] [again]
DESCRIPTION:The Company OnStage is excited to announce that we are hosting auditions for “Charlotte’s Web” and “The Complete Works of William Shakespeare (abridged) [revised] [again]”. \nAuditions will take place on Sunday\, November 12\, and Monday\, November 13\, 2023 beginning at 7pm at 5720 Bellaire Blvd\, Suite G\, Houston\, TX 77081. We ask that participants arrive 15 minutes early to fill out paperwork and introduce yourself to the stage managers. If you have a headshot and resume\, please bring it (not required). There are no audition appointments\, and actors will not need prepared monologues. The evening will cover the auditions for both shows\, beginning with “Charlotte’s Web”. During each show’s audition\, all actors will have an opportunity to demonstrate their skills in a group setting with the director selecting sides and combinations of participants to read together or independently. Please be prepared to move and make bold choices! \n************************************************************************** \nYOUNG AUDIENCES PRODUCTION \n“Charlotte’s Web” \nAdapted by Joseph Robinette. Based on the book by E.B. White. \nDirected By Ricky Rojas \nProduced by special arrangement with THE DRAMATIC PULISHING COMPANY of Woodstock\, Illinois \nDATES OF NOTE \n\nFirst Rehearsal: Sunday\, December 3\, 2023\nRehearsal Schedule: Sunday and Tuesday Evenings Beginning @ 7pm.\n***Additional Dates: January 1\, 7 (@ 3pm)\, 21\, and 25\, 2024***\n***No Rehearsals on January 23\, 2024***\nPerformance Dates: Saturdays\, January 27\, February 3\, 10\, and 17\, 2024 @ 11:00 a.m. and 1:30 p.m. and Sunday\, February 4\, 2024\, @ 2:00 p.m.\nStrike Date: Sunday\, February 18\, 2024\n\nCASTING REQUIREMENTS: \n\nTotal Number of Actors: 7\nAge Range: 16 through 50s\nNumber of Men: 4-5\nNumber of Women: 2-3\nAll ethnicities are welcome.\nActors must be comfortable with physicality\, playing multiple high energy roles (including animals)\, and be comfortable lifting up to 25 lbs to help with set changes.\nThere are no roles for anyone under 16 in this production.\n\nLIST OF CHARACTERS\, AGE RANGES\, AND GENDERS: \n\nWilbur: A pig. Male 16+ -young 20s (young presenting)\nCharlotte: A spider. Female 16+ -50\, able to climb\nFern Arable/Goose/Spectator/Judge: Female 16+ – young 20s\nJohn Arable/Templeton/Lurvy: Male 25+ -50s\nHomer Zuckerman/Avery/Sheep/Spectator/Judge: Male 25+ -50s\nGander/Reporter (Carter)/Uncle (Pig)/President of the Fair-Male 20+ -50s\nNarrator: 16+ to 50s voice role. Male or Female\n\n  \nSYNOPSIS: \nThe Children’s Literature Association named this “the best American children’s book of the past two hundred years\,” and Joseph Robinette\, working with the advice of E.B. White\, has created a play that captures this work in a thrilling theatrical presentation. All the enchanting characters are here: Wilbur\, the irresistible young pig who desperately wants to avoid the butcher; Fern\, a girl who understands what animals say to each other; Templeton\, the gluttonous rat who can occasionally be talked into a good deed; the Zuckerman family; the Arables; and\, most of all\, the extraordinary spider\, Charlotte\, who proves to be “a true friend and a good writer.” Determined to save Wilbur\, Charlotte begins her campaign with the “miracle” of her web in which she writes\, “Some pig.” This is a beautiful and knowing play about friendship. \nAUDITIONS FOR THIS PRODUCTION WILL CONSIST OF COLD READING FROM THE SCRIPT AND PHYSICALITY. \n*************************************************************************** \nEVENING THEATRE PRODUCTION \n“The Complete Works of William Shakespeare (abridged) [revised] [again]” \nWritten by Adam Long\, Daniel Singer\, and Jess Winfield. New Revisions by Daniel Singer and Jess Winfield \nDirected by Aaron Garrett \nTHE COMPLETE WORKS OF WILLIAM SHAKESPEARE (abridged) is performed by special arrangement with Broadway Play Publishing In c\, New York\, NY \nDATES OF NOTE \n\nFirst Rehearsal: Monday\, December 4\, 2023\nRehearsal Schedule: Monday\, Wednesday\, and Thursday Evenings Beginning @ 7pm.\n***Additional Dates: January 5\, 6 (@ 3:30pm)\, 13 (@ 3:30pm)\, 19\, 20 and 23\, 2024***\n***No Rehearsals on December 7\, 2023\, and January 4\, 11\, 18\, and 22\, 2024***\nPerformance Dates: Fridays and Saturdays\, January 26\, 27\, February 2\, 3\, 9\, 10\, 16\, and 17\, 2024 @ 8:00 p.m.\, and Sunday\, February 11\, 2024 @ 2:00 p.m.\nStrike Date:  Sunday\, February 18\, 202\n\nCASTING REQUIREMENTS: \n\nTotal Number of Actors: 3\nAge range 18 – 60\nNumber of Men or Women: 3\nAll ethnicities are welcome.\nThere are no roles for children in this production.\n\nDESCRIPTION OF CHARACTERS: \nAll three roles are open to any gender\, and all actors will play multiple parts. Roles are highly physical\, and actors will need to run\, jump\, climb\, carry\, be carried and fall. Actors will need to be comfortable with stage combat and close contact such as hugging and kissing. If you have experience with a string instrument\, that would be a bonus\, but not required. \nCOS will have an Intimacy Coordinator for this production. \nSYNOPSIS: \nThe cultural touchstone that is THE COMPLETE WORKS OF WILLIAM SHAKESPEARE (ABRIDGED) was born when three inspired\, charismatic comics\, having honed their pass-the-hat act at Renaissance fairs\, premiered their preposterous masterwork at the Edinburgh Festival Fringe in 1987. It quickly became a worldwide phenomenon\, earning the title of London’s longest-running comedy after a decade at the Criterion Theatre. THE COMPLETE WORKS OF WILLIAM SHAKESPEARE (ABRIDGED) is one of the world’s most frequently produced plays and has been translated into several dozen languages. Featured are all 37 of Shakespeare’s plays\, performed in 97 minutes\, by three actors. Fast paced\, witty\, and physical\, it’s full of laughter for Shakespeare lovers and haters alike. The original version was followed by the 2010 REVISED version\, and this latest REVISED AGAIN version includes changes that celebrate and encourage greater diversity and inclusivity in today’s theater! \nAUDITIONS FOR THIS PRODUCTION WILL CONSIST OF COLD READINGS FROM THE SCRIPT AND IMPROVIZATION. AUDITIONERS SHOULD DRESS READY TO MOVE. \n*************************************************************************** \nThe Company OnStage\, Inc. (COS)\, is an all-volunteer Texas nonprofit corporation with tax exempt status under Section 501(c)(3) of the Internal Revenue Code and can be reached by visiting www.companyonstage.org or by calling 713-726-1219 and leaving a message.
URL:https://companyonstage.org/cal-event/auditions-charlottes-web-the-complete-works-of-william-shakespeare-abridged-revised-again/
LOCATION:Company OnStage\, 5720 Bellaire Blvd.\, Ste G\, Houston\, TX\, 77081\, United States
CATEGORIES:Audition
ORGANIZER;CN="The Company OnStage":MAILTO:info@companyonstage.org
END:VEVENT
BEGIN:VEVENT
DTSTART;VALUE=DATE:20230924
DTEND;VALUE=DATE:20230926
DTSTAMP:20260422T144427
CREATED:20230911T232759Z
LAST-MODIFIED:20230912T191621Z
UID:1096-1695513600-1695686399@companyonstage.org
SUMMARY:AUDITIONS - A Tale of Two Santas & The Charitable Sisterhood Christmas Spectacular
DESCRIPTION:The Company OnStage is excited to announce that we are hosting auditions for “A Tale of Two Santas” and “The Charitable Sisterhood Christmas Spectacular”. \nAuditions will take place on Sunday\, September 24\, and Monday\, September 25\, 2023 beginning @7pm at 5720 Bellaire Blvd\, Suite G\, Houston\, TX 77081. We ask that participants arrive 15 minutes early to fill out paperwork and introduce yourself to the stage managers. If you have a headshot and resume\, please bring it (not required). There are no audition appointments\, and actors will not need prepared monologues. The evening will cover the auditions for both shows\, beginning with “A Tale of Two Santas”. During each show’s audition\, all actors will have an opportunity to demonstrate their skills in a group setting with the director selecting sides and combinations of participants to read together or independently. Please be prepared to move and make bold choices! \n*************************************************************************** \nYOUNG AUDIENCES PRODUCTION: “A Tale of Two Santas”\nWritten by Andy Huggins\nDirected By Lauren Hainley\nProduced by special arrangement with ANDY HUGGINS \nFirst Rehearsal: Sunday\, October 8\, 2023\nRehearsal Schedule: Sunday and Tuesday Evenings Beginning @ 7pm (Additional Dates may be added\, if needed)\nPerformance Dates: Saturdays\, December 2\, 9\, and 16\, 2023 @ 11:00 a.m. and 1:30 p.m. and Sunday\, December 3\, 2023\, @ 2:00 p.m.\nStrike Date: Sunday\, December 17\, 2023 \nCASTING REQUIREMENTS:\nTotal Number of Actors: 7\nAge Range: 18 through 40+\nNumber of Men: 2-6\nNumber of Women: 1-5\nAll ethnicities are welcome.\nActors must be comfortable with physical comedy and singing.\nThere are no roles for anyone under 18 in this production. \nLIST OF CHARACTERS\, AGE RANGES\, AND GENDERS:\nSanta Claus: 35 and Up Male\nMrs. Claus: 35 and Up Female\nMax (Santa’s Chief Assistant): 20-40 Open to Any Gender\nClaude (An Elf): 20-40 Open to Any Gender\nMonty (An Elf): 20-40 Open to Any Gender\nMr. Corkle: 40+ Male\nEverett Corkle: 18-25 (Looks Younger) Open to Any Gender \nSYNOPSIS:\nWhat do you do when you feel it’s time for a change? For Max\, an elf at the North Pole\, change means taking on the role of the big guy himself. But when Christmas comes and the first delivery goes sideways\, will Max be able to fill Santa’s big shoes? This holiday musical comedy will answer the question: what do you do when you have two Santas? \nAUDITIONS FOR THIS PRODUCTION WILL CONSIST OF COLD READING FROM THE SCRIPT AND PHYSICALITY. AUDTIONERS WILL BE ASKED TO SING A HOLIDAY SONG. \n*************************************************************************** \nEVENING THEATRE PRODUCTION: “The Charitable Sisterhood Christmas Spectacular”\nWritten by Bo Wilson\nDirected by Brett Hainley\nProduced by special arrangement with THE DRAMATIC PUBLISHING COMPANY\, INC.\, of Woodstock\, Illinois. \nFirst Rehearsal: Monday\, October 9\, 2023\nRehearsal Schedule: Monday\, Wednesday\, and Thursday Evenings Beginning @ 7pm (Additional Dates may be added\, if needed)\nPerformance Dates: Fridays and Saturdays\, December 1\, 2\, 8\, 9\, 15\, and 16\, 2023 @ 8:00 p.m.\, and Sunday\, December 10\, 2023 @ 2:00 p.m.\nStrike Date: Sunday\, December 17\, 2023 \nCASTING REQUIREMENTS:\nTotal Number of Actors: 5\nAge range 35 – 65\nNumber of Women: 5\nAll ethnicities are welcome.\nThere are no roles for children in this production. \nDESCRIPTION OF CHARACTERS:\nTina Yates (40s) – Originally from Walbrook\, just outside Baltimore. A successful nurse because she’s warm\, practical and cares about people\, but doesn’t tend to pause and consider whether she ought to be less frank; a blurter. Enjoys her role as the local Yankee. \nLorraine Jensen (40s) – Lived here (a small town in Virginia) all her life. Has nine children\, at last count. Gently sarcastic and always good humored. \nBea Littleton (Late 40s to early 50s) – The wife of Pastor Hiram Littleton and happy to let you know it. He might be the pastor\, but it’s her church. \nJanet Murchison (35-40) – A New Jersey native who recently opened her own private investigation agency. Quick with a wisecrack and even quicker with ideas. Bea trusts her even though she dislikes doing so. \nLucille Orton (50s) – The widow of the late Reverend Joseph Orton of First Salvation Church. Bea’s blood rival. In appearance\, puritanical and scary. In tone\, sweetly menacing. Carrie Nation by way of Sue Ann Nivens. \nSYNOPSIS:\nChristmas\, 1977\, is only three weeks away\, and the ladies of the Charitable Sisterhood are preparing for Second Trinity Church’s annual Christmas Spectacular … but they’re having trouble staying focused on their preparations because there’s a criminal on the loose—someone has stolen the baby Jesus figure from his place in Second Trinity’s nativity scene. Sisterhood leader Bea Littleton is certain that the culprit is her longtime rival\, Lucille Orton\, from First Salvation (a place of extremely strict beliefs just up the road). Bea and the other sisterhood members decide that they need help getting to the bottom of things\, and they call in honorary member and private investigator Janet Murchison to delve more deeply into things and see if she can determine who the perpetrator is. By show time\, Janet is starting to think she knows exactly who is guilty of what … but the truth can’t be revealed until the end of the Spectacular. As a result\, we watch from both onstage and backstage\, as the sisterhood performs sacred songs and satirical skits (after all\, where else does Santa meet the Wise Men at the manger?). The fun doesn’t let up until the hilarious revelation at the show’s climax\, which leaves the audience and the sisterhood filled with the very best spirit of the Christmas season. \nAUDITIONS FOR THIS PRODUCTION WILL CONSIST OF COLD READINGS FROM THE SCRIPT. \n***************************************************************************\nThe Company OnStage\, Inc. (COS)\, is an all-volunteer Texas nonprofit corporation with tax exempt status under Section 501(c)(3) of the Internal Revenue Code and can be reached by visiting www.companyonstage.org or by calling 713-726-1219 and leaving a message.
URL:https://companyonstage.org/cal-event/auditions-a-tale-of-two-santas-the-charitable-sisterhood-christmas-spectacular/
LOCATION:Company OnStage\, 5720 Bellaire Blvd.\, Ste G\, Houston\, TX\, 77081\, United States
CATEGORIES:Audition
ORGANIZER;CN="The Company OnStage":MAILTO:info@companyonstage.org
END:VEVENT
BEGIN:VEVENT
DTSTART;VALUE=DATE:20230611
DTEND;VALUE=DATE:20230618
DTSTAMP:20260422T144427
CREATED:20230522T021616Z
LAST-MODIFIED:20230611T042009Z
UID:729-1686441600-1687046399@companyonstage.org
SUMMARY:Virtual Auditions
DESCRIPTION:The Company OnStage will be accepting virtual auditions submission for our 2023 Summer Gala from June 11-17. We are looking for performance ready acts to participate in our variety show entertainment for our annual fundraising gala. Our theme is “Create Your Own Story.” We are looking for a dance\, a monologue\, a multi-person scene\, a song (set of songs)\, a duet\, a comedy routine\, or other creative performance expression. Auditions will need to be as performance ready as possible\, 10 minutes or less in length\, and all content must be PG-13 or tamer. All performers need to be 18 years of age or older.  \nOur 2023 Summer Gala is on July 22nd.  We will have a mandatory rehearsal that day at 3pm. Performers will need to be available from that time through the end of event. The cast announcement will be made by June 28th. This is a non-paid opportunity. \nThe audition window is opening from June 11-17. Click HERE to submit your audition. \nIf you have any questions\, please reach out to Eileenmilestx@gmail.com.
URL:https://companyonstage.org/cal-event/virtual-auditions/
LOCATION:Online
CATEGORIES:Audition,Event
ORGANIZER;CN="The Company OnStage":MAILTO:info@companyonstage.org
END:VEVENT
END:VCALENDAR