BEGIN:VCALENDAR
VERSION:2.0
PRODID:-//The Company Onstage - ECPv6.6.3//NONSGML v1.0//EN
CALSCALE:GREGORIAN
METHOD:PUBLISH
X-WR-CALNAME:The Company Onstage
X-ORIGINAL-URL:https://companyonstage.org
X-WR-CALDESC:Events for The Company Onstage
REFRESH-INTERVAL;VALUE=DURATION:PT1H
X-Robots-Tag:noindex
X-PUBLISHED-TTL:PT1H
BEGIN:VTIMEZONE
TZID:America/Chicago
BEGIN:DAYLIGHT
TZOFFSETFROM:-0600
TZOFFSETTO:-0500
TZNAME:CDT
DTSTART:20260308T080000
END:DAYLIGHT
BEGIN:STANDARD
TZOFFSETFROM:-0500
TZOFFSETTO:-0600
TZNAME:CST
DTSTART:20261101T070000
END:STANDARD
END:VTIMEZONE
BEGIN:VEVENT
DTSTART;VALUE=DATE:20260403
DTEND;VALUE=DATE:20260426
DTSTAMP:20260423T053249
CREATED:20250720T030000Z
LAST-MODIFIED:20250715T012026Z
UID:2103-1775174400-1777161599@companyonstage.org
SUMMARY:Silent Sky
DESCRIPTION:When Henrietta Leavitt begins work at the Harvard Observatory in the early 1900s\, she isn’t allowed to touch a telescope or express an original idea. Instead\, she joins a group of women “computers\,” charting the stars for a renowned astronomer who calculates projects in “girl hours” and has no time for the women’s probing theories. As Henrietta\, in her free time\, attempts to measure the light and distance of stars\, she must also take measure of her life on Earth\, trying to balance her dedication to science with family obligations and the possibility of love. The true story of 19th-century astronomer Henrietta Leavitt explores a woman’s place in society during a time of immense scientific discoveries\, when women’s ideas were dismissed until men claimed credit for them. Social progress\, like scientific progress\, can be hard to see when one is trapped among earthly complications; Henrietta Leavitt and her female peers believe in both\, and their dedication changed the way we understand both the heavens and Earth. \nDirected by: Charlotte YerpeStock \nPerformance Dates: Fridays and Saturdays\, April 3rd\, 4th\, 10th\, 11th\, 17th\, 18th\, 24th\, and 25th at 8:00 p.m.\, and Sunday\, April 12th at 2:00 p.m. \nCLICK HERE FOR TICKETS
URL:https://companyonstage.org/cal-event/silent-sky/
LOCATION:Company OnStage\, 5720 Bellaire Blvd.\, Ste G\, Houston\, TX\, 77081\, United States
CATEGORIES:2025-2026,Box Office,General Performances,Shows and Events
ATTACH;FMTTYPE=image/jpeg:https://companyonstage.org/wp-content/uploads/Silent-Sky-Website-Event-1280-x-720-px.jpg
ORGANIZER;CN="The Company OnStage":MAILTO:info@companyonstage.org
END:VEVENT
BEGIN:VEVENT
DTSTART;VALUE=DATE:20260404
DTEND;VALUE=DATE:20260426
DTSTAMP:20260423T053249
CREATED:20250720T030006Z
LAST-MODIFIED:20250720T215145Z
UID:2105-1775260800-1777161599@companyonstage.org
SUMMARY:Junie B. Jones: Toothless Wonder
DESCRIPTION:Junie B. Jones is having a rough day – no\, scratch that\, a rough week! First off\, she is about to lose her first tooth. What will she even look like once it comes out? And what does the Tooth Fairy want all those teeth for anyway? Even worse\, everyone in her class except for her has been invited to her classmate Jim’s birthday party. Will Junie B. land that surprisingly elusive invitation? Return to Junie B.’s charming and witty world in JUNIE B. JONES: TOOTHLESS WONDER. \nProduced by special arrangement with Playscripts\, Inc. (www.playscripts.com)\nDirected by: Allison Rozell \nPerformance Dates: Saturdays April 4th\, 11th\, 18th\, and 25th at 11 a.m. and 1:30 p.m. and Sunday\, April 19th at 2 p.m. \nCLICK HERE FOR TICKETS
URL:https://companyonstage.org/cal-event/junie-b-jones-toothless-wonder/
LOCATION:Company OnStage\, 5720 Bellaire Blvd.\, Ste G\, Houston\, TX\, 77081\, United States
CATEGORIES:2025-2026,Box Office,General Performances,Shows and Events
ATTACH;FMTTYPE=image/jpeg:https://companyonstage.org/wp-content/uploads/Junie-B.-Jones-Toothless-Wonder-Website-Event.jpg
ORGANIZER;CN="The Company OnStage":MAILTO:info@companyonstage.org
END:VEVENT
BEGIN:VEVENT
DTSTART;VALUE=DATE:20260605
DTEND;VALUE=DATE:20260628
DTSTAMP:20260423T053249
CREATED:20250720T030024Z
LAST-MODIFIED:20250818T175222Z
UID:2107-1780617600-1782604799@companyonstage.org
SUMMARY:Describe the Night
DESCRIPTION:In 1920\, the Russian writer Isaac Babel is a war correspondent with the Red Cavalry. Seventy years later\, a mysterious Stasi agent spies on a woman in Dresden and falls in love. In 2010\, an aircraft carrying most of the Polish government crashes in the Russian city of Smolensk. Set in Russia and East Germany over the course of ninety years\, this thrilling and epic play traces the stories of seven people connected by history\, myth\, and conspiracy theories. \nDirected by: Randy Packer \nPerformance Dates: Fridays and Saturdays\, June 5th\, 6th\, 12th\, 13th\, 19th\, 20th\, 26th\, and 27th at 8:00 p.m.\, and Sunday\, June 7th at 2:00 p.m. \nCLICK HERE FOR TICKETS
URL:https://companyonstage.org/cal-event/describe-the-night/
LOCATION:Company OnStage\, 5720 Bellaire Blvd.\, Ste G\, Houston\, TX\, 77081\, United States
CATEGORIES:2025-2026,Box Office,General Performances,Shows and Events
ATTACH;FMTTYPE=image/jpeg:https://companyonstage.org/wp-content/uploads/Describe-The-Night-Website-Event-1280-x-720-px-1.jpg
ORGANIZER;CN="The Company OnStage":MAILTO:info@companyonstage.org
END:VEVENT
BEGIN:VEVENT
DTSTART;VALUE=DATE:20260606
DTEND;VALUE=DATE:20260628
DTSTAMP:20260423T053249
CREATED:20250720T030005Z
LAST-MODIFIED:20250818T175150Z
UID:2109-1780704000-1782604799@companyonstage.org
SUMMARY:The Last of the Dragons
DESCRIPTION:In the kingdom of Middlefield\, there is a tradition. On a princess’ sixteenth birthday\, she is tied to a rock\, kidnapped by a dragon\, rescued by a prince\, and lives happily ever after. But what happens when the prince is too afraid to fight\, the princess wants to do the rescuing herself\, and the dragon is nowhere to be found? Adapted from the story by Edith Nesbit\, The Last of the Dragons tells a tale of bravery\, intelligence\, and unexpected friendship. \nPerformance Dates: Saturdays June 6th\, 13th\, 20th\, and 27th at 11 a.m. and 1:30 p.m. and Sunday\, June 14th at 2 p.m. \nCLICK HERE FOR TICKETS
URL:https://companyonstage.org/cal-event/the-last-of-the-dragons/
LOCATION:Company OnStage\, 5720 Bellaire Blvd.\, Ste G\, Houston\, TX\, 77081\, United States
CATEGORIES:2025-2026,Box Office,General Performances,Shows and Events
ATTACH;FMTTYPE=image/jpeg:https://companyonstage.org/wp-content/uploads/The-Last-of-the-Dragons-Website-Event.jpg
ORGANIZER;CN="The Company OnStage":MAILTO:info@companyonstage.org
END:VEVENT
END:VCALENDAR